BEGIN:VCALENDAR
VERSION:2.0
PRODID:Events Booking
BEGIN:VEVENT
UID:69e63f4a30fe8
SUMMARY:Being An Evidence-Based PRACTITIONER (3-Day - August 10 - 12\, 2016
  - Atlanta\, Georgia)
DESCRIPTION:Core &amp\; Advance Skills for Leadership &amp\; The Profession
 al
 
LOCATION:3900 S Las Vegas\, NV 89119
DTSTART:20160810T040000Z
DTEND:20160812T040000Z
DTSTAMP:20260420T145922Z
ORGANIZER;CN=Yvette Hughes:MAILTO:yhughes@ebphub.com
GEO:0;-84.369861
X-APPLE-STRUCTURED-LOCATION;VALUE=URI;X-ADDRESS=3900 S Las Vegas\, NV 89119
 ;X-APPLE-RADIUS=72;X-TITLE=Luxor Hotel\, Las Vegas\, Nevada:0;-84.369861
END:VEVENT
END:VCALENDAR