BEGIN:VCALENDAR
VERSION:2.0
PRODID:Events Booking
BEGIN:VEVENT
UID:69e63cd887520
SUMMARY:Motivational Interviewing (MI): Core Skills for Intrinsic Motivatio
 n - Online Live Webinar (CE Training Hours-1.5)
DESCRIPTION:
LOCATION:At your desktop or smart device.
DTSTART:20201215T180000Z
DTEND:20201215T193000Z
DTSTAMP:20260420T144856Z
ORGANIZER;CN=Yvette Hughes:MAILTO:yhughes@ebphub.com
END:VEVENT
END:VCALENDAR