BEGIN:VCALENDAR
VERSION:2.0
PRODID:Events Booking
BEGIN:VEVENT
UID:69e62c139667d
SUMMARY:Employee Performance Reviews: How To Prep\, Write & Deliver\, On-Ti
 me Appraisals Every Time! - Online Live Webinar (CE Training Hours-1.5)
DESCRIPTION:
LOCATION:At your desktop or smart device.
DTSTART:20211119T180000Z
DTEND:20211119T193000Z
DTSTAMP:20260420T133723Z
ORGANIZER;CN=Yvette Hughes:MAILTO:yhughes@ebphub.com
END:VEVENT
END:VCALENDAR