BEGIN:VCALENDAR
VERSION:2.0
PRODID:Events Booking
BEGIN:VEVENT
UID:69e63f1966d75
SUMMARY:Certification in Evidence-Based Leadership (CEBL) \"MASTERCLASS\": 
 Strategy & Tactics for Leadership & Sustainability (3-Day | 18 CE Training
  Hours)
DESCRIPTION:
LOCATION:At your desktop or smart device.
DTSTART:20201021T123000Z
DTEND:20201023T193000Z
DTSTAMP:20260420T145833Z
ORGANIZER;CN=Yvette Hughes:MAILTO:yhughes@ebphub.com
END:VEVENT
END:VCALENDAR