BEGIN:VCALENDAR
VERSION:2.0
PRODID:Events Booking
BEGIN:VEVENT
UID:69e6291518f8e
SUMMARY:Ethics in Working Remote: Ethical Considerations During COVID-19 - 
 Online Live Webinar (CE Training Hours-1.5)
DESCRIPTION:
LOCATION:At your desktop or smart device.
DTSTART:20210202T180000Z
DTEND:20210202T193000Z
DTSTAMP:20260420T132437Z
ORGANIZER;CN=Yvette Hughes:MAILTO:yhughes@ebphub.com
END:VEVENT
END:VCALENDAR