BEGIN:VCALENDAR
VERSION:2.0
PRODID:Events Booking
BEGIN:VEVENT
UID:69e62df362c25
SUMMARY:Working With Lesbian\, Gay\, Bi\, Transgender and Questioning Youth
 : Best Practice for Providing Care - Online Live Workshops (CE Training Ho
 urs-1.5)
DESCRIPTION:
LOCATION:At your desktop or smart device.
DTSTART:20210216T193000Z
DTEND:20210216T210000Z
DTSTAMP:20260420T134523Z
ORGANIZER;CN=Yvette Hughes:MAILTO:yhughes@ebphub.com
END:VEVENT
END:VCALENDAR