BEGIN:VCALENDAR
VERSION:2.0
PRODID:Events Booking
BEGIN:VEVENT
UID:69e62d6b3c3c3
SUMMARY:Working With Youth Who Have Substance Use & Addiction Disorders - O
 nline Live Workshops (CE Training Hours-1.5)
DESCRIPTION:
LOCATION:At your desktop or smart device.
DTSTART:20210216T153000Z
DTEND:20210216T170000Z
DTSTAMP:20260420T134307Z
ORGANIZER;CN=Yvette Hughes:MAILTO:yhughes@ebphub.com
END:VEVENT
END:VCALENDAR