BEGIN:VCALENDAR
VERSION:2.0
PRODID:Events Booking
BEGIN:VEVENT
UID:69e63f187ad5f
SUMMARY:Case Management & Care Coordination: Evidence Based & Strength Cent
 ered Strategy & Tactics - (2-Day | CE Training Hours - 13)
DESCRIPTION:
LOCATION:240 Coliseum Dr\, Macon\, GA 31217\, USA
DTSTART:20170314T123000Z
DTEND:20170315T193000Z
DTSTAMP:20260420T145832Z
ORGANIZER;CN=Yvette Hughes:MAILTO:yhughes@ebphub.com
GEO:32.842725;-83.618101
X-APPLE-STRUCTURED-LOCATION;VALUE=URI;X-ADDRESS=240 Coliseum Dr\, Macon\, G
 A 31217\, USA;X-APPLE-RADIUS=72;X-TITLE=Macon Marriott City Center:32.8427
 25;-83.618101
END:VEVENT
END:VCALENDAR