BEGIN:VCALENDAR
VERSION:2.0
PRODID:Events Booking
BEGIN:VEVENT
UID:69e62f2cab03b
SUMMARY:How to Motivate Employees: Essential Skills for Evidence-Based Lead
 ership & Management (PRIVATE EVENT) - CE Training Hours-1.5
DESCRIPTION:
LOCATION:At your desktop or smart device.
DTSTART:20210816T140000Z
DTEND:20210816T153000Z
DTSTAMP:20260420T135036Z
ORGANIZER;CN=Yvette Hughes:MAILTO:yhughes@ebphub.com
END:VEVENT
END:VCALENDAR