BEGIN:VCALENDAR
VERSION:2.0
PRODID:Events Booking
BEGIN:VEVENT
UID:69e62bc00705a
SUMMARY:Evidence-Based \"PATHWAYS\" | Motivational Interviewing (MI) Skills
  Day (10/21/2021) | CE Training Hours: 7
DESCRIPTION:
LOCATION:At your desktop or smart device.
DTSTART:20211021T040000Z
DTEND:20211021T040000Z
DTSTAMP:20260420T133600Z
ORGANIZER;CN=Yvette Hughes:MAILTO:yhughes@ebphub.com
END:VEVENT
END:VCALENDAR