BEGIN:VCALENDAR
VERSION:2.0
PRODID:Events Booking
BEGIN:VEVENT
UID:69e62951b36b9
SUMMARY:Working with Employees Onsite & Remote or Both (& Succeeding): Core
  Skills for \"New & Less Tenured\" Supervisors and Managers - Online Live 
 Webinar (CE Training Hours-1.5)
DESCRIPTION:
LOCATION:At your desktop or smart device.
DTSTART:20220308T180000Z
DTEND:20220308T193000Z
DTSTAMP:20260420T132537Z
ORGANIZER;CN=Yvette Hughes:MAILTO:yhughes@ebphub.com
END:VEVENT
END:VCALENDAR