BEGIN:VCALENDAR
VERSION:2.0
PRODID:Events Booking
BEGIN:VEVENT
UID:69e62bc008d71
SUMMARY:Evidence-Based \"PATHWAYS\" | Motivational Interviewing (MI) Skills
  Day (02/24/2022) | CE Training Hours: 6
DESCRIPTION:
LOCATION:At your desktop or smart device.
DTSTART:20220224T163000Z
DTEND:20220224T233000Z
DTSTAMP:20260420T133600Z
ORGANIZER;CN=Yvette Hughes:MAILTO:yhughes@ebphub.com
END:VEVENT
END:VCALENDAR