BEGIN:VCALENDAR
VERSION:2.0
PRODID:Events Booking
BEGIN:VEVENT
UID:69e62d1a6b6fc
SUMMARY:EVIDENCE-BASED SUCCESS PLANNING WORKSHOP '22 - CE Training Hours: 3
DESCRIPTION:
LOCATION:At your desktop or smart device.
DTSTART:20220127T180000Z
DTEND:20220127T213000Z
DTSTAMP:20260420T134146Z
ORGANIZER;CN=Yvette Hughes:MAILTO:yhughes@ebphub.com
END:VEVENT
END:VCALENDAR