BEGIN:VCALENDAR
VERSION:2.0
PRODID:Events Booking
BEGIN:VEVENT
UID:69e62ed1b09cf
SUMMARY:Evidence-Based Pathways for Case Management in Family Engagement in
  Community | April 27th\, 2022 | CE Training Hours: 6
DESCRIPTION:How to Engage Families for Case Management in Community
DTSTART:20220427T153000Z
DTEND:20220427T203000Z
DTSTAMP:20260420T134905Z
ORGANIZER;CN=Yvette Hughes:MAILTO:yhughes@ebphub.com
END:VEVENT
END:VCALENDAR