BEGIN:VCALENDAR
VERSION:2.0
PRODID:Events Booking
BEGIN:VEVENT
UID:69e62b8a35d1f
SUMMARY:Evidence-Based Professionals (EBP) Planning Day: Training & Action 
 Planning Workshop
DESCRIPTION:
LOCATION:At your desktop or smart device.
DTSTART:20220712T170000Z
DTEND:20220712T203000Z
DTSTAMP:20260420T133506Z
ORGANIZER;CN=Yvette Hughes:MAILTO:yhughes@ebphub.com
END:VEVENT
END:VCALENDAR