BEGIN:VCALENDAR
VERSION:2.0
PRODID:Events Booking
BEGIN:VEVENT
UID:69e62df34b6d0
SUMMARY:Evidence-Based \"PATHWAYS\" | Motivational Interviewing (MI) Skills
  For Front-Line & Direct Services Teams
DESCRIPTION:
LOCATION:At your desktop or smart device.
DTSTART:20220816T153000Z
DTEND:20220817T223000Z
DTSTAMP:20260420T134523Z
ORGANIZER;CN=Yvette Hughes:MAILTO:yhughes@ebphub.com
END:VEVENT
END:VCALENDAR