BEGIN:VCALENDAR
VERSION:2.0
PRODID:Events Booking
BEGIN:VEVENT
UID:69e62d95e6ae5
SUMMARY:Evidence-Based \"PATHWAYS\" | Motivational Interviewing (MI) Traini
 ng for Supervisors
DESCRIPTION:
LOCATION:At your desktop or smart device.
DTSTART:20220823T153000Z
DTEND:20220823T223000Z
DTSTAMP:20260420T134349Z
ORGANIZER;CN=Yvette Hughes:MAILTO:yhughes@ebphub.com
END:VEVENT
END:VCALENDAR