BEGIN:VCALENDAR
VERSION:2.0
PRODID:Events Booking
BEGIN:VEVENT
UID:69e62e59aab16
SUMMARY:Certification in Evidence-Based Leadership (CEBL) - 9/23/2022
DESCRIPTION:Certified Evidence-Based&nbsp\;Leadership (CEBL)
LOCATION:At your desktop or smart device.
DTSTART:20220923T123000Z
DTEND:20220923T193000Z
DTSTAMP:20260420T134705Z
ORGANIZER;CN=Yvette Hughes:MAILTO:yhughes@ebphub.com
END:VEVENT
END:VCALENDAR