BEGIN:VCALENDAR
VERSION:2.0
PRODID:Events Booking
BEGIN:VEVENT
UID:69e62bc06f164
SUMMARY:Evidence-Based Pathways Masterclass for Organizational Leadership (
 1-Day\, April 26)
DESCRIPTION:Strategy and Tactics for Leadership Development &amp\; Organiza
 tional Sustainability
LOCATION:At your desktop or smart device.
DTSTART:20230426T153000Z
DTEND:20230426T223000Z
DTSTAMP:20260420T133600Z
ORGANIZER;CN=Yvette Hughes:MAILTO:yhughes@ebphub.com
END:VEVENT
END:VCALENDAR