BEGIN:VCALENDAR
VERSION:2.0
PRODID:Events Booking
BEGIN:VEVENT
UID:69e62d6acb8be
SUMMARY:Motivational Interviewing (MI) Skills Training for Supervisory Team
 s
DESCRIPTION:
LOCATION:At your desktop or smart device.
DTSTART:20230213T163000Z
DTEND:20230213T233000Z
DTSTAMP:20260420T134306Z
ORGANIZER;CN=Yvette Hughes:MAILTO:yhughes@ebphub.com
END:VEVENT
END:VCALENDAR