BEGIN:VCALENDAR
VERSION:2.0
PRODID:Events Booking
BEGIN:VEVENT
UID:69e62d3d003d6
SUMMARY:Motivational Interviewing (MI) Skills Trainer Training for In-house
  Agency Trainers
DESCRIPTION:
LOCATION:At your desktop or smart device.
DTSTART:20230215T163000Z
DTEND:20230216T233000Z
DTSTAMP:20260420T134221Z
ORGANIZER;CN=Yvette Hughes:MAILTO:yhughes@ebphub.com
END:VEVENT
END:VCALENDAR