BEGIN:VCALENDAR
VERSION:2.0
PRODID:Events Booking
BEGIN:VEVENT
UID:69e62c12e2001
SUMMARY:Working with Employees (& Succeeding): Core Skills for \"New & Less
  Tenured\" Supervisors and Managers - Online Live Webinar
DESCRIPTION:
LOCATION:At your desktop or smart device.
DTSTART:20230706T170000Z
DTEND:20230706T183000Z
DTSTAMP:20260420T133722Z
ORGANIZER;CN=Yvette Hughes:MAILTO:yhughes@ebphub.com
END:VEVENT
END:VCALENDAR