BEGIN:VCALENDAR
VERSION:2.0
PRODID:Events Booking
BEGIN:VEVENT
UID:69e629cd6cd5d
SUMMARY:Working with Employees (& Succeeding): Core Skills for \"New & Less
  Tenured\" Supervisors and Managers
DESCRIPTION:
LOCATION:At your desktop or smart device.
DTSTART:20231121T180000Z
DTEND:20231121T193000Z
DTSTAMP:20260420T132741Z
ORGANIZER;CN=Yvette Hughes:MAILTO:yhughes@ebphub.com
END:VEVENT
END:VCALENDAR