BEGIN:VCALENDAR
VERSION:2.0
PRODID:Events Booking
BEGIN:VEVENT
UID:69e62d3d23636
SUMMARY:Motivational Interviewing (MI) Skills Bundle - Front-Line Direct Se
 rvices + Supervisor (August 9 & 16\, 2023)
DESCRIPTION:
LOCATION:At your desktop or smart device.
DTSTART:20230809T153000Z
DTEND:20230816T223000Z
DTSTAMP:20260420T134221Z
ORGANIZER;CN=Yvette Hughes:MAILTO:yhughes@ebphub.com
END:VEVENT
END:VCALENDAR