BEGIN:VCALENDAR
VERSION:2.0
PRODID:Events Booking
BEGIN:VEVENT
UID:69e62e03625b3
SUMMARY:Motivating Employees through Evidence-Based Leadership and Manageme
 nt
DESCRIPTION:How to Achieve Agency Goals and Objectives
 Register 4 or More
  at same time - Pay Only $95 ea.
  
DTSTART:20230322T170000Z
DTEND:20230322T183000Z
DTSTAMP:20260420T134539Z
ORGANIZER;CN=Yvette Hughes:MAILTO:yhughes@ebphub.com
END:VEVENT
END:VCALENDAR