BEGIN:VCALENDAR
VERSION:2.0
PRODID:Events Booking
BEGIN:VEVENT
UID:69e69cefb59fb
SUMMARY:Evidence-Based Pathways in Case Management for Individual & Family 
 Engagement (2 Days - May 3 & 10)
DESCRIPTION:Professional Skills For Individual Engagement &amp\; Care Coord
 ination
LOCATION:At your desktop or smart device.
DTSTART:20230503T153000Z
DTEND:20230503T223000Z
DTSTAMP:20260420T213855Z
ORGANIZER;CN=Yvette Hughes:MAILTO:yhughes@ebphub.com
END:VEVENT
END:VCALENDAR