BEGIN:VCALENDAR
VERSION:2.0
PRODID:Events Booking
BEGIN:VEVENT
UID:69e62e6c7f166
SUMMARY:Motivating Employees through Evidence-Based Leadership and Manageme
 nt
DESCRIPTION:Register 4 for Price of 3: $75 ea.
LOCATION:At your desktop or smart device.
DTSTART:20230720T170000Z
DTEND:20230720T183000Z
DTSTAMP:20260420T134724Z
ORGANIZER;CN=Yvette Hughes:MAILTO:yhughes@ebphub.com
END:VEVENT
END:VCALENDAR