BEGIN:VCALENDAR
VERSION:2.0
PRODID:Events Booking
BEGIN:VEVENT
UID:69e62d53628fc
SUMMARY:Motivational Interviewing (MI) Skills Trainer Training for In-house
  Agency Trainers (August 23\, 2023)
DESCRIPTION:
LOCATION:At your desktop or smart device.
DTSTART:20230823T153000Z
DTEND:20230823T223000Z
DTSTAMP:20260420T134243Z
ORGANIZER;CN=Yvette Hughes:MAILTO:yhughes@ebphub.com
END:VEVENT
END:VCALENDAR