BEGIN:VCALENDAR
VERSION:2.0
PRODID:Events Booking
BEGIN:VEVENT
UID:69e62dac4b24f
SUMMARY:Evidence-Based Pathways in Case Management for Individual & Family 
 Engagement (Oct 11\, 2023)
DESCRIPTION:Professional Skills For Individual Engagement &amp\; Care Coord
 ination
LOCATION:At your desktop or smart device.
DTSTART:20231011T153000Z
DTEND:20231011T223000Z
DTSTAMP:20260420T134412Z
ORGANIZER;CN=Yvette Hughes:MAILTO:yhughes@ebphub.com
END:VEVENT
END:VCALENDAR