BEGIN:VCALENDAR
VERSION:2.0
PRODID:Events Booking
BEGIN:VEVENT
UID:69e62d527c178
SUMMARY:Evidence-Based Practitioner Pathways for Individual Engagement & Ca
 re Coordination (1-Day - Oct 18\, 2023)
DESCRIPTION:Professional Skills For Individual Engagement &amp\; Care Coord
 ination
LOCATION:At your desktop or smart device.
DTSTART:20231018T153000Z
DTEND:20231018T223000Z
DTSTAMP:20260420T134242Z
ORGANIZER;CN=Yvette Hughes:MAILTO:yhughes@ebphub.com
END:VEVENT
END:VCALENDAR