BEGIN:VCALENDAR
VERSION:2.0
PRODID:Events Booking
BEGIN:VEVENT
UID:69e62d3d1fcfe
SUMMARY:Certification for Evidence-Based (EB) Human Services Associates (CE
 BA) - 8/9/2023
DESCRIPTION:Certification for Evidence-Based (EB) Human Services Associates
 &nbsp\; (CEBA)
 View Program Outline &gt\;&gt\;
LOCATION:At your desktop or smart device.
DTSTART:20230809T123000Z
DTEND:20230809T193000Z
DTSTAMP:20260420T134221Z
ORGANIZER;CN=Yvette Hughes:MAILTO:yhughes@ebphub.com
END:VEVENT
END:VCALENDAR