BEGIN:VCALENDAR
VERSION:2.0
PRODID:Events Booking
BEGIN:VEVENT
UID:69e62d531bcc2
SUMMARY:Substance Use Disorders Treatment\, Management & Prevention: Core &
  Advance Skills in Evidence-Based Practice - CE Training Hours-14
DESCRIPTION:
LOCATION:At your desktop or smart device.
DTSTART:20231207T050000Z
DTEND:20231208T050000Z
DTSTAMP:20260420T134243Z
ORGANIZER;CN=Yvette Hughes:MAILTO:yhughes@ebphub.com
END:VEVENT
END:VCALENDAR