BEGIN:VCALENDAR
VERSION:2.0
PRODID:Events Booking
BEGIN:VEVENT
UID:69e62f2cc2f0f
SUMMARY:Motivational Interviewing (MI) Skills: An Introduction to Fundament
 als (November 17\, 2023)
DESCRIPTION:
LOCATION:At your desktop or smart device.
DTSTART:20231117T163000Z
DTEND:20231117T233000Z
DTSTAMP:20260420T135036Z
ORGANIZER;CN=Yvette Hughes:MAILTO:yhughes@ebphub.com
END:VEVENT
END:VCALENDAR