BEGIN:VCALENDAR
VERSION:2.0
PRODID:Events Booking
BEGIN:VEVENT
UID:69e62bcc3a7fd
SUMMARY:Working with Employees (& Succeeding): Core Skills for \"New & Less
  Tenured\" Supervisors and Managers - CE Training Hours-1.5
DESCRIPTION:
LOCATION:At your desktop or smart device.
DTSTART:20240111T180000Z
DTEND:20240111T193000Z
DTSTAMP:20260420T133612Z
ORGANIZER;CN=Yvette Hughes:MAILTO:yhughes@ebphub.com
END:VEVENT
END:VCALENDAR