BEGIN:VCALENDAR
VERSION:2.0
PRODID:Events Booking
BEGIN:VEVENT
UID:69e62e9725f01
SUMMARY:Motivational Interviewing (MI) Skills For Front-Line & Direct Servi
 ces Teams - CE Training Hours-7
DESCRIPTION:
LOCATION:At your desktop or smart device.
DTSTART:20240214T163000Z
DTEND:20240214T233000Z
DTSTAMP:20260420T134807Z
ORGANIZER;CN=Yvette Hughes:MAILTO:yhughes@ebphub.com
END:VEVENT
END:VCALENDAR