BEGIN:VCALENDAR
VERSION:2.0
PRODID:Events Booking
BEGIN:VEVENT
UID:69e62d959488a
SUMMARY:Cognitive Behavioral Therapy: Core & Advanced Skills in Evidence-Ba
 sed Approaches - CE Training Hours-7
DESCRIPTION:
LOCATION:At your desktop or smart device.
DTSTART:20240322T153000Z
DTEND:20240322T223000Z
DTSTAMP:20260420T134349Z
ORGANIZER;CN=Yvette Hughes:MAILTO:yhughes@ebphub.com
END:VEVENT
END:VCALENDAR