BEGIN:VCALENDAR
VERSION:2.0
PRODID:Events Booking
BEGIN:VEVENT
UID:69e62ed6807de
SUMMARY:Motivational Interviewing (MI): Core & Advanced Skills For Front-Li
 ne & Direct Services Teams - PRIVATE PROGRAM | 14 CE Training Hours
DESCRIPTION:
LOCATION:Tucson\, Arizona
DTSTART:20230721T130000Z
DTEND:20230722T203000Z
DTSTAMP:20260420T134910Z
ORGANIZER;CN=Yvette Hughes:MAILTO:yhughes@ebphub.com
END:VEVENT
END:VCALENDAR