BEGIN:VCALENDAR
VERSION:2.0
PRODID:Events Booking
BEGIN:VEVENT
UID:69e62d6a9652c
SUMMARY:Motivational Interviewing (MI) Skills Training for Supervisory Team
 s (August 20\, 2024)
DESCRIPTION:
LOCATION:At your desktop or smart device.
DTSTART:20240820T153000Z
DTEND:20240820T223000Z
DTSTAMP:20260420T134306Z
ORGANIZER;CN=Yvette Hughes:MAILTO:yhughes@ebphub.com
END:VEVENT
END:VCALENDAR