BEGIN:VCALENDAR
VERSION:2.0
PRODID:Events Booking
BEGIN:VEVENT
UID:69e62dad17dbf
SUMMARY:Evidence-Based Pathways for Case Management\, Care Coordination & F
 amily Engagement (May 1\, 2 & 3)
DESCRIPTION:Professional Skills For Individual Engagement &amp\; Care Coord
 ination
LOCATION:At your desktop or smart device.
DTSTART:20240501T153000Z
DTEND:20240503T223000Z
DTSTAMP:20260420T134413Z
ORGANIZER;CN=Yvette Hughes:MAILTO:yhughes@ebphub.com
END:VEVENT
END:VCALENDAR