BEGIN:VCALENDAR
VERSION:2.0
PRODID:Events Booking
BEGIN:VEVENT
UID:69e63e577ec0f
SUMMARY:Employee Performance Appraisals: How To Prep\, Write & Deliver\, On
 -Time Reviews Every Time! - Online Webinar (CE Training Hours-1.5)
DESCRIPTION:
LOCATION:At your desktop or smart device.
DTSTART:20180119T180000Z
DTEND:20180119T193000Z
DTSTAMP:20260420T145519Z
ORGANIZER;CN=Yvette Hughes:MAILTO:yhughes@ebphub.com
END:VEVENT
END:VCALENDAR