BEGIN:VCALENDAR
VERSION:2.0
PRODID:Events Booking
BEGIN:VEVENT
UID:69e62e147e982
SUMMARY:Motivational Interviewing (MI) Skills Bundle - Front-Line Direct Se
 rvices + Supervisor (August 6 & 20\, 2024)
DESCRIPTION:
LOCATION:At your desktop or smart device.
DTSTART:20240806T153000Z
DTEND:20240820T223000Z
DTSTAMP:20260420T134556Z
ORGANIZER;CN=Yvette Hughes:MAILTO:yhughes@ebphub.com
END:VEVENT
END:VCALENDAR