BEGIN:VCALENDAR
VERSION:2.0
PRODID:Events Booking
BEGIN:VEVENT
UID:69e62e5aaa69b
SUMMARY:Motivational Interviewing (MI): Core & Advanced Skills for Front-Li
 ne Direct Services + In-house Training (August 6 & 27\, 2024)
DESCRIPTION:
LOCATION:At your desktop or smart device.
DTSTART:20240806T153000Z
DTEND:20240827T223000Z
DTSTAMP:20260420T134706Z
ORGANIZER;CN=Yvette Hughes:MAILTO:yhughes@ebphub.com
END:VEVENT
END:VCALENDAR