BEGIN:VCALENDAR
VERSION:2.0
PRODID:Events Booking
BEGIN:VEVENT
UID:69e62d957b087
SUMMARY:Certification for Evidence-Based (EB) Human Services Associates (CE
 BA)
DESCRIPTION:Certification for Evidence-Based (EB) Human Services Associates
 &nbsp\; (CEBA)
 View Program Outline &gt\;&gt\;
LOCATION:At your desktop or smart device.
DTSTART:20240422T133000Z
DTEND:20240422T193000Z
DTSTAMP:20260420T134349Z
ORGANIZER;CN=Yvette Hughes:MAILTO:yhughes@ebphub.com
END:VEVENT
END:VCALENDAR