BEGIN:VCALENDAR
VERSION:2.0
PRODID:Events Booking
BEGIN:VEVENT
UID:69e62e20de0ae
SUMMARY:Certification in Evidence-Based Leadership (CEBL) -3/4/2022
DESCRIPTION:Certified Evidence-Based&nbsp\;Leadership (CEBL)
LOCATION:At your desktop or smart device.
DTSTART:20220304T133000Z
DTEND:20220304T203000Z
DTSTAMP:20260420T134608Z
ORGANIZER;CN=Yvette Hughes:MAILTO:yhughes@ebphub.com
END:VEVENT
END:VCALENDAR