BEGIN:VCALENDAR
VERSION:2.0
PRODID:Events Booking
BEGIN:VEVENT
UID:69e62e6dc9daf
SUMMARY:Evidence-Based Case Management Pathways for Individual Engagement &
  Care Coordination (Oct. 9 & 10)
DESCRIPTION:Professional Skills For Individual Engagement &amp\; Care Coord
 ination
LOCATION:At your desktop or smart device.
DTSTART:20241009T153000Z
DTEND:20241010T223000Z
DTSTAMP:20260420T134725Z
ORGANIZER;CN=Yvette Hughes:MAILTO:yhughes@ebphub.com
END:VEVENT
END:VCALENDAR