BEGIN:VCALENDAR
VERSION:2.0
PRODID:Events Booking
BEGIN:VEVENT
UID:69e63ccdb3a60
SUMMARY:Cognitive-Behavioral (CBT) Skills: An Introduction to CBT Fundament
 als (CE Training Hours-1.5)
DESCRIPTION:
LOCATION:At your desktop or smart device.
DTSTART:20190712T170000Z
DTEND:20190711T183000Z
DTSTAMP:20260420T144845Z
ORGANIZER;CN=Yvette Hughes:MAILTO:yhughes@ebphub.com
END:VEVENT
END:VCALENDAR