BEGIN:VCALENDAR
VERSION:2.0
PRODID:Events Booking
BEGIN:VEVENT
UID:69e63f49944e1
SUMMARY:Becoming an Evidence-Based Organization - Oct. 22-23\, 2013 San Fra
 ncisco\, CA\, USA
DESCRIPTION:Core Skills for Building Capacity and Sustainability
 Register
  4 for Price of 3.&nbsp\; Only $675 ea.
LOCATION:Embassy Suites San Francisco Airport - Waterfront\, 150 Anza Blvd\
 , Burlingame\, CA 94010\, USA
DTSTART:20131022T040000Z
DTEND:20131023T040000Z
DTSTAMP:20260420T145921Z
ORGANIZER;CN=Yvette Hughes:MAILTO:yhughes@ebphub.com
GEO:37.591592;-122.347907
X-APPLE-STRUCTURED-LOCATION;VALUE=URI;X-ADDRESS=Embassy Suites San Francisc
 o Airport - Waterfront\, 150 Anza Blvd\, Burlingame\, CA 94010\, USA;X-APP
 LE-RADIUS=72;X-TITLE=San Francisco\, CA USA:37.591592;-122.347907
END:VEVENT
END:VCALENDAR