BEGIN:VCALENDAR
VERSION:2.0
PRODID:Events Booking
BEGIN:VEVENT
UID:69e62ed1ae0ab
SUMMARY:Motivational Interviewing (MI) Skills Training for Supervisory Team
 s (Mar. 6\, 2025)
DESCRIPTION:
LOCATION:At your desktop or smart device.
DTSTART:20250306T163000Z
DTEND:20250306T233000Z
DTSTAMP:20260420T134905Z
ORGANIZER;CN=Yvette Hughes:MAILTO:yhughes@ebphub.com
END:VEVENT
END:VCALENDAR