BEGIN:VCALENDAR
VERSION:2.0
PRODID:Events Booking
BEGIN:VEVENT
UID:69e62d6b62555
SUMMARY:Motivational Interviewing (MI) Skills for Front-Line Direct Service
 s\, Supervisors & In-House Trainers (Feb. 26\, Mar. 6 & 13\, 2025)
DESCRIPTION:
LOCATION:At your desktop or smart device.
DTSTART:20250226T163000Z
DTEND:20250313T223000Z
DTSTAMP:20260420T134307Z
ORGANIZER;CN=Yvette Hughes:MAILTO:yhughes@ebphub.com
END:VEVENT
END:VCALENDAR