BEGIN:VCALENDAR
VERSION:2.0
PRODID:Events Booking
BEGIN:VEVENT
UID:69e62f008eebb
SUMMARY:Evidence-Based Case Management Pathways for Family Engagement in Co
 mmunity (May 8\, 2025)
DESCRIPTION:How to Engage Families for Case Management in Community
LOCATION:At your desktop or smart device.
DTSTART:20250508T153000Z
DTEND:20250508T223000Z
DTSTAMP:20260420T134952Z
ORGANIZER;CN=Yvette Hughes:MAILTO:yhughes@ebphub.com
END:VEVENT
END:VCALENDAR